BEGIN:VCALENDAR
VERSION:2.0
PRODID:-//ChamberMaster//Event Calendar 2.0//EN
METHOD:PUBLISH
X-PUBLISHED-TTL:P3D
REFRESH-INTERVAL:P3D
CALSCALE:GREGORIAN
BEGIN:VEVENT
DTSTART:20241013T170000Z
DTEND:20241013T200000Z
X-MICROSOFT-CDO-ALLDAYEVENT:FALSE
SUMMARY:RHYTHM Wine Mixer
DESCRIPTION:A perfect way to spend a Kansas City Chiefs bye week wine\, music\, local vendors\, and good company! ??\n\nWhat's Happening:\n\n\n	Special guest vendors\, including The Details 333\, Han Made Design Co.\, and Forever Linked KC\n	Music & Prizes to keep the energy high ??\n	Light Snacks to pair with your wine ??\n	Fun games and mingling with Shawnee locals!\n\n\nHow to Join: Entry is simple bring one bottle of your favorite wine (and feel free to bring more if you'd like!). You'll get a chance to share why it's your favorite\, adding a fun twist to the event. ???\n\nWhere: 7470 Nieman Rd.\, Shawnee\, KS 66203\n\nWe'd love to have you with us for this casual\, fun-filled afternoon! It's a great opportunity to network\, unwind\, and discover some amazing local businesses.\n\nLooking forward to raising a glass with you! ??\n\nMust be 21+ to participate
X-ALT-DESC;FMTTYPE=text/html:<p>A perfect way to spend a Kansas City Chiefs <strong>bye week</strong>&mdash\;wine\, music\, local vendors\, and good company! ??</p>\n\n<p><strong>What&rsquo\;s Happening:</strong></p>\n\n<ul>\n	<li>Special guest vendors\, including <strong>The Details 333</strong>\, <strong>Han Made Design Co.</strong>\, and <strong>Forever Linked KC</strong></li>\n	<li><strong>Music &amp\; Prizes</strong> to keep the energy high ??</li>\n	<li><strong>Light Snacks</strong> to pair with your wine ??</li>\n	<li>Fun <strong>games</strong> and mingling with Shawnee locals!</li>\n</ul>\n\n<p><strong>How to Join:</strong> Entry is simple&mdash\;bring <strong>one bottle of your favorite wine</strong> (and feel free to bring more if you&#39\;d like!). You&rsquo\;ll get a chance to share why it&rsquo\;s your favorite\, adding a fun twist to the event. ???</p>\n\n<p><strong>Where:</strong> <strong>7470 Nieman Rd.\, Shawnee\, KS 66203</strong></p>\n\n<p>We&rsquo\;d love to have you with us for this casual\, fun-filled afternoon! It&rsquo\;s a great opportunity to network\, unwind\, and discover some amazing local businesses.</p>\n\n<p>Looking forward to raising a glass with you! ??</p>\n\n<p><strong>Must be 21+ to participate</strong></p>\n
LOCATION:RHYTHM Cycle & Sculpt
UID:e.2554.6235
SEQUENCE:3
DTSTAMP:20260424T044618Z
URL:https://business.shawnee-ks.com/events/details/rhythm-wine-mixer-6235
END:VEVENT

END:VCALENDAR
