BEGIN:VCALENDAR
VERSION:2.0
PRODID:-//ChamberMaster//Event Calendar 2.0//EN
METHOD:PUBLISH
X-PUBLISHED-TTL:P3D
REFRESH-INTERVAL:P3D
CALSCALE:GREGORIAN
BEGIN:VEVENT
DTSTART:20250425T170000Z
DTEND:20250425T183000Z
X-MICROSOFT-CDO-ALLDAYEVENT:FALSE
SUMMARY:BMO Lunch & Learn – Building Financial Resiliency in Your Business Strategies to safeguard your business
DESCRIPTION:Join us for a networking and educational event\, hosted by BMO. Enjoy light lunch and refreshments with our business and industry specialists. In this time of economic uncertainty\, we want to help your business be more resilient to change!\n\n			 \n\n			Topics will include:\n\n			 \n\n			  What is financial resiliency\n\n			  How to build short-term cash reserves\n\n			  How to strengthen the foundations of your business\n\n			  Leveraging working capital for cash flow needs
X-ALT-DESC;FMTTYPE=text/html:<table border="0" cellpadding="0" cellspacing="0" style="border-collapse:collapse\; color:rgb(36\, 36\, 36)\; font-family:segoe ui\,segoe ui web (west european)\,-apple-system\,blinkmacsystemfont\,roboto\,helvetica neue\,sans-serif\; font-feature-settings:inherit\; font-kerning:inherit\; font-optical-sizing:inherit\; font-size-adjust:inherit\; font-size:15px\; font-stretch:inherit\; font-variant-alternates:inherit\; font-variant-east-asian:inherit\; font-variant-emoji:inherit\; font-variant-numeric:inherit\; font-variant-position:inherit\; font-variation-settings:inherit\; line-height:inherit\; width:555px\; word-break:break-word">\n	<tbody>\n		<tr>\n			<td>&nbsp\;</td>\n		</tr>\n		<tr>\n			<td>\n			<p><span style="color:black !important">Join us for a networking and educational event\, hosted by BMO. Enjoy light lunch and refreshments with our business and industry specialists. In this time of economic uncertainty\, we want to help your business be more resilient to change!</span></p>\n\n			<p><span style="color:inherit">&nbsp\;</span></p>\n\n			<p><span style="color:black !important">Topics will include:</span></p>\n\n			<p><span style="color:inherit">&nbsp\;</span></p>\n\n			<p><strong><span style="color:rgb(0\, 112\, 192) !important">&middot\;&nbsp\;What is financial resiliency</span></strong></p>\n\n			<p><strong><span style="color:rgb(0\, 112\, 192) !important">&middot\;&nbsp\;How to build short-term cash reserves</span></strong></p>\n\n			<p><strong><span style="color:rgb(0\, 112\, 192) !important">&middot\;&nbsp\;How to strengthen the foundations of your business</span></strong></p>\n\n			<p><strong><span style="color:rgb(0\, 112\, 192) !important">&middot\;&nbsp\;Leveraging working capital for cash flow needs</span></strong></p>\n			</td>\n		</tr>\n	</tbody>\n</table>\n
LOCATION:BMO Monticello 21900 Shawnee Mission Parkway Shawnee KS 66226
UID:e.2554.6330
SEQUENCE:3
DTSTAMP:20260422T172518Z
URL:https://business.shawnee-ks.com/events/details/bmo-lunch-learn-building-financial-resiliency-in-your-business-strategies-to-safeguard-your-business-6330
END:VEVENT

END:VCALENDAR
